BEGIN:VCALENDAR
VERSION:2.0
PRODID:-//SpasmoTeatro - ECPv6.15.1.1//NONSGML v1.0//EN
CALSCALE:GREGORIAN
METHOD:PUBLISH
X-WR-CALNAME:SpasmoTeatro
X-ORIGINAL-URL:https://spasmoteatro.com
X-WR-CALDESC:Eventos para SpasmoTeatro
REFRESH-INTERVAL;VALUE=DURATION:PT1H
X-Robots-Tag:noindex
X-PUBLISHED-TTL:PT1H
BEGIN:VTIMEZONE
TZID:Europe/Paris
BEGIN:DAYLIGHT
TZOFFSETFROM:+0100
TZOFFSETTO:+0200
TZNAME:CEST
DTSTART:20260329T010000
END:DAYLIGHT
BEGIN:STANDARD
TZOFFSETFROM:+0200
TZOFFSETTO:+0100
TZNAME:CET
DTSTART:20261025T010000
END:STANDARD
END:VTIMEZONE
BEGIN:VEVENT
DTSTART;TZID=Europe/Paris:20260422T120000
DTEND;TZID=Europe/Paris:20260422T120000
DTSTAMP:20260421T141029
CREATED:20260220T115933Z
LAST-MODIFIED:20260220T115957Z
UID:2003-1776859200-1776859200@spasmoteatro.com
SUMMARY:eBook 2.0\, La fascinante historia del libro (Campaña Escolar)
DESCRIPTION:
URL:https://spasmoteatro.com/evento/ebook-2-0-la-fascinante-historia-del-libro-campana-escolar-2/
LOCATION:Sala Gilitos\, Alcalá de Henares\, Madrid
ATTACH;FMTTYPE=image/jpeg:https://spasmoteatro.com/wp-content/uploads/2025/02/eBook-Spasmo-5-scaled.jpg
END:VEVENT
END:VCALENDAR