BEGIN:VCALENDAR
VERSION:2.0
PRODID:-//SpasmoTeatro - ECPv6.15.1.1//NONSGML v1.0//EN
CALSCALE:GREGORIAN
METHOD:PUBLISH
X-WR-CALNAME:SpasmoTeatro
X-ORIGINAL-URL:https://spasmoteatro.com
X-WR-CALDESC:Eventos para SpasmoTeatro
REFRESH-INTERVAL;VALUE=DURATION:PT1H
X-Robots-Tag:noindex
X-PUBLISHED-TTL:PT1H
BEGIN:VTIMEZONE
TZID:Europe/Paris
BEGIN:DAYLIGHT
TZOFFSETFROM:+0100
TZOFFSETTO:+0200
TZNAME:CEST
DTSTART:20260329T010000
END:DAYLIGHT
BEGIN:STANDARD
TZOFFSETFROM:+0200
TZOFFSETTO:+0100
TZNAME:CET
DTSTART:20261025T010000
END:STANDARD
END:VTIMEZONE
BEGIN:VEVENT
DTSTART;TZID=Europe/Paris:20260507T150000
DTEND;TZID=Europe/Paris:20260507T150000
DTSTAMP:20260421T155545
CREATED:20260407T161242Z
LAST-MODIFIED:20260407T163751Z
UID:2022-1778166000-1778166000@spasmoteatro.com
SUMMARY:Bichitos (Xomorrotxoak) Campaña Escolar
DESCRIPTION:
URL:https://spasmoteatro.com/evento/bichitos-xomorrotxoak-campana-escolar-2/
LOCATION:Teatro Coliseo de\, Eibar\, Gipuzkoa
ATTACH;FMTTYPE=image/jpeg:https://spasmoteatro.com/wp-content/uploads/2025/02/Bichitos-calen-4.jpg
END:VEVENT
END:VCALENDAR